BEGIN:VCALENDAR
VERSION:2.0
PRODID:-//mgschoolkolkata.edu.in - ECPv6.15.13.1//NONSGML v1.0//EN
CALSCALE:GREGORIAN
METHOD:PUBLISH
X-WR-CALNAME:mgschoolkolkata.edu.in
X-ORIGINAL-URL:https://mgschoolkolkata.edu.in
X-WR-CALDESC:Events for mgschoolkolkata.edu.in
REFRESH-INTERVAL;VALUE=DURATION:PT1H
X-Robots-Tag:noindex
X-PUBLISHED-TTL:PT1H
BEGIN:VTIMEZONE
TZID:Asia/Kolkata
BEGIN:STANDARD
TZOFFSETFROM:+0530
TZOFFSETTO:+0530
TZNAME:IST
DTSTART:20250101T000000
END:STANDARD
END:VTIMEZONE
BEGIN:VTIMEZONE
TZID:UTC
BEGIN:STANDARD
TZOFFSETFROM:+0000
TZOFFSETTO:+0000
TZNAME:UTC
DTSTART:20250101T000000
END:STANDARD
END:VTIMEZONE
BEGIN:VEVENT
DTSTART;VALUE=DATE:20260501
DTEND;VALUE=DATE:20260502
DTSTAMP:20260418T182044
CREATED:20240430T051517Z
LAST-MODIFIED:20260417T141955Z
UID:1671-1777593600-1777679999@mgschoolkolkata.edu.in
SUMMARY:May Day
DESCRIPTION:
URL:https://mgschoolkolkata.edu.in/event/may-day/
CATEGORIES:Holiday
END:VEVENT
BEGIN:VEVENT
DTSTART;VALUE=DATE:20260511
DTEND;VALUE=DATE:20260608
DTSTAMP:20260418T182044
CREATED:20240430T052504Z
LAST-MODIFIED:20260417T142331Z
UID:1679-1778457600-1780876799@mgschoolkolkata.edu.in
SUMMARY:Summer Vacation
DESCRIPTION:The summer vacation for all students will commence from 11th May\, 2026 to 7th June\, 2026. School reopens on 8th June\, 2026.
URL:https://mgschoolkolkata.edu.in/event/summer-vacation/
CATEGORIES:Holiday,Notice
END:VEVENT
BEGIN:VEVENT
DTSTART;VALUE=DATE:20260828
DTEND;VALUE=DATE:20260829
DTSTAMP:20260418T182044
CREATED:20240430T051659Z
LAST-MODIFIED:20260417T142848Z
UID:1673-1787875200-1787961599@mgschoolkolkata.edu.in
SUMMARY:Raksha Bandhan
DESCRIPTION:
URL:https://mgschoolkolkata.edu.in/event/raksha-bandhan/
CATEGORIES:Holiday
END:VEVENT
BEGIN:VEVENT
DTSTART;VALUE=DATE:20260904
DTEND;VALUE=DATE:20260905
DTSTAMP:20260418T182044
CREATED:20240501T224123Z
LAST-MODIFIED:20260417T143116Z
UID:1701-1788480000-1788566399@mgschoolkolkata.edu.in
SUMMARY:Janmastami
DESCRIPTION:
URL:https://mgschoolkolkata.edu.in/event/janmastami/
CATEGORIES:Holiday
END:VEVENT
BEGIN:VEVENT
DTSTART;VALUE=DATE:20260915
DTEND;VALUE=DATE:20260916
DTSTAMP:20260418T182044
CREATED:20240501T224216Z
LAST-MODIFIED:20260417T143325Z
UID:1703-1789430400-1789516799@mgschoolkolkata.edu.in
SUMMARY:Rishi Panchami
DESCRIPTION:
URL:https://mgschoolkolkata.edu.in/event/rishi-panchami/
CATEGORIES:Holiday
END:VEVENT
BEGIN:VEVENT
DTSTART;VALUE=DATE:20261002
DTEND;VALUE=DATE:20261003
DTSTAMP:20260418T182044
CREATED:20260417T143643Z
LAST-MODIFIED:20260417T150831Z
UID:2533-1790899200-1790985599@mgschoolkolkata.edu.in
SUMMARY:Gandhi Jayanti
DESCRIPTION:
URL:https://mgschoolkolkata.edu.in/event/gandhi-jayanti/
CATEGORIES:Holiday
END:VEVENT
BEGIN:VEVENT
DTSTART;VALUE=DATE:20261010
DTEND;VALUE=DATE:20261011
DTSTAMP:20260418T182044
CREATED:20240501T224837Z
LAST-MODIFIED:20260417T143855Z
UID:1705-1791590400-1791676799@mgschoolkolkata.edu.in
SUMMARY:Mahalaya
DESCRIPTION:
URL:https://mgschoolkolkata.edu.in/event/mahalaya/
CATEGORIES:Holiday
END:VEVENT
BEGIN:VEVENT
DTSTART;VALUE=DATE:20261016
DTEND;VALUE=DATE:20261113
DTSTAMP:20260418T182044
CREATED:20240501T225001Z
LAST-MODIFIED:20260417T144052Z
UID:1707-1792108800-1794527999@mgschoolkolkata.edu.in
SUMMARY:Puja Vacation
DESCRIPTION:The summer vacation for all students will commence from 16th October\, 2026 to 12th November\, 2026. School reopens on 13th November\, 2026.
URL:https://mgschoolkolkata.edu.in/event/puja-vacation/
CATEGORIES:Holiday
END:VEVENT
BEGIN:VEVENT
DTSTART;VALUE=DATE:20261124
DTEND;VALUE=DATE:20261125
DTSTAMP:20260418T182044
CREATED:20240501T225201Z
LAST-MODIFIED:20260417T145324Z
UID:1709-1795478400-1795564799@mgschoolkolkata.edu.in
SUMMARY:Guru Nanak's Birthday
DESCRIPTION:
URL:https://mgschoolkolkata.edu.in/event/guru-nanaks-birthday/
CATEGORIES:Holiday
END:VEVENT
BEGIN:VEVENT
DTSTART;VALUE=DATE:20261214
DTEND;VALUE=DATE:20261215
DTSTAMP:20260418T182044
CREATED:20240501T225305Z
LAST-MODIFIED:20260417T145203Z
UID:1711-1797206400-1797292799@mgschoolkolkata.edu.in
SUMMARY:Holiday For Sports
DESCRIPTION:
URL:https://mgschoolkolkata.edu.in/event/holiday-for-sports/
CATEGORIES:Holiday
END:VEVENT
BEGIN:VEVENT
DTSTART;VALUE=DATE:20261224
DTEND;VALUE=DATE:20270104
DTSTAMP:20260418T182044
CREATED:20240404T111632Z
LAST-MODIFIED:20260417T145441Z
UID:869-1798070400-1799020799@mgschoolkolkata.edu.in
SUMMARY:Winter Vacation
DESCRIPTION:Winter Vacation for all classes will be started from 24 December\, 2026 to 3rd January\, 2027. Classes will be commencing from 4th January 2027.
URL:https://mgschoolkolkata.edu.in/event/winter-vacation/
CATEGORIES:Holiday
END:VEVENT
BEGIN:VEVENT
DTSTART;VALUE=DATE:20270112
DTEND;VALUE=DATE:20270113
DTSTAMP:20260418T182044
CREATED:20250419T063624Z
LAST-MODIFIED:20260417T150909Z
UID:2328-1799712000-1799798399@mgschoolkolkata.edu.in
SUMMARY:Swami Vivekananda's Birthday
DESCRIPTION:
URL:https://mgschoolkolkata.edu.in/event/swami-vivekanandas-birthday/
CATEGORIES:Holiday
END:VEVENT
BEGIN:VEVENT
DTSTART;VALUE=DATE:20270123
DTEND;VALUE=DATE:20270124
DTSTAMP:20260418T182044
CREATED:20240501T230138Z
LAST-MODIFIED:20260417T145917Z
UID:1717-1800662400-1800748799@mgschoolkolkata.edu.in
SUMMARY:Netaji Birthday
DESCRIPTION:
URL:https://mgschoolkolkata.edu.in/event/netaji-birthday-schools-annual-day/
CATEGORIES:Events,Holiday
END:VEVENT
BEGIN:VEVENT
DTSTART;VALUE=DATE:20270126
DTEND;VALUE=DATE:20270127
DTSTAMP:20260418T182044
CREATED:20250419T063825Z
LAST-MODIFIED:20260417T150000Z
UID:2331-1800921600-1801007999@mgschoolkolkata.edu.in
SUMMARY:Republic Day & School's Annual Function
DESCRIPTION:
URL:https://mgschoolkolkata.edu.in/event/republic-day/
CATEGORIES:Holiday
END:VEVENT
BEGIN:VEVENT
DTSTART;VALUE=DATE:20270127
DTEND;VALUE=DATE:20270128
DTSTAMP:20260418T182044
CREATED:20250419T063937Z
LAST-MODIFIED:20260417T150903Z
UID:2333-1801008000-1801094399@mgschoolkolkata.edu.in
SUMMARY:Compensatory Holiday
DESCRIPTION:
URL:https://mgschoolkolkata.edu.in/event/compensatory-holiday/
CATEGORIES:Holiday
END:VEVENT
BEGIN:VEVENT
DTSTART;VALUE=DATE:20270322
DTEND;VALUE=DATE:20270323
DTSTAMP:20260418T182044
CREATED:20250419T064147Z
LAST-MODIFIED:20260417T150852Z
UID:2337-1805673600-1805759999@mgschoolkolkata.edu.in
SUMMARY:Holi / Dolyatra
DESCRIPTION:
URL:https://mgschoolkolkata.edu.in/event/holi/
CATEGORIES:Holiday
END:VEVENT
BEGIN:VEVENT
DTSTART;VALUE=DATE:20270331
DTEND;VALUE=DATE:20270401
DTSTAMP:20260418T182044
CREATED:20250501T094559Z
LAST-MODIFIED:20260417T150721Z
UID:2378-1806451200-1806537599@mgschoolkolkata.edu.in
SUMMARY:Session Break
DESCRIPTION:
URL:https://mgschoolkolkata.edu.in/event/session-break-2/
CATEGORIES:Holiday
END:VEVENT
END:VCALENDAR